Package: ChIPQC Version: 1.28.0 Command: rm -rf ChIPQC.buildbin-libdir && mkdir ChIPQC.buildbin-libdir && C:\Users\biocbuild\bbs-3.13-bioc\R\bin\R.exe CMD INSTALL --merge-multiarch --build --library=ChIPQC.buildbin-libdir ChIPQC_1.28.0.tar.gz StartedAt: 2021-10-15 08:32:13 -0400 (Fri, 15 Oct 2021) EndedAt: 2021-10-15 08:34:43 -0400 (Fri, 15 Oct 2021) EllapsedTime: 149.8 seconds RetCode: 0 Status: OK PackageFile: ChIPQC_1.28.0.zip PackageFileSize: 2.209 MiB