git_url: https://git.bioconductor.org/packages/ChIPexoQual git_branch: RELEASE_3_13 git_last_commit: ed02199 git_last_commit_date: 2021-05-19 12:25:27 -0400 (Wed, 19 May 2021) Package: ChIPexoQual Version: 1.16.0 Maintainer: Rene Welch MaintainerEmail: welch at stat.wisc.edu