Package: ChIPsim Version: 1.46.0 Command: /home/biocbuild/bbs-3.13-bioc/R/bin/R CMD build --keep-empty-dirs --no-resave-data ChIPsim StartedAt: 2021-10-14 06:56:09 -0400 (Thu, 14 Oct 2021) EndedAt: 2021-10-14 06:57:15 -0400 (Thu, 14 Oct 2021) EllapsedTime: 66.3 seconds RetCode: 0 Status: OK PackageFile: ChIPsim_1.46.0.tar.gz PackageFileSize: 546.4 KiB