Package: ChIPsim Version: 1.46.0 Command: chmod a+r ChIPsim -R && C:\Users\biocbuild\bbs-3.13-bioc\R\bin\R.exe CMD build --keep-empty-dirs --no-resave-data ChIPsim StartedAt: 2021-10-14 12:46:40 -0400 (Thu, 14 Oct 2021) EndedAt: 2021-10-14 12:48:11 -0400 (Thu, 14 Oct 2021) EllapsedTime: 90.1 seconds RetCode: 0 Status: OK PackageFile: ChIPsim_1.46.0.tar.gz PackageFileSize: 564.6 KiB