Package: ChIPsim Version: 1.46.0 Command: C:\cygwin\bin\curl.exe -O http://155.52.207.165/BBS/3.13/bioc/src/contrib/ChIPsim_1.46.0.tar.gz && rm -rf ChIPsim.buildbin-libdir && mkdir ChIPsim.buildbin-libdir && C:\Users\biocbuild\bbs-3.13-bioc\R\bin\R.exe CMD INSTALL --merge-multiarch --build --library=ChIPsim.buildbin-libdir ChIPsim_1.46.0.tar.gz && C:\Users\biocbuild\bbs-3.13-bioc\R\bin\R.exe CMD INSTALL ChIPsim_1.46.0.zip && rm ChIPsim_1.46.0.tar.gz ChIPsim_1.46.0.zip StartedAt: 2021-10-14 08:49:30 -0400 (Thu, 14 Oct 2021) EndedAt: 2021-10-14 08:50:24 -0400 (Thu, 14 Oct 2021) EllapsedTime: 53.8 seconds RetCode: 0 Status: OK