git_url: https://git.bioconductor.org/packages/ChemmineR git_branch: RELEASE_3_13 git_last_commit: 6a834ab git_last_commit_date: 2021-05-19 11:42:00 -0400 (Wed, 19 May 2021) Package: ChemmineR Version: 3.44.0 Maintainer: Thomas Girke MaintainerEmail: thomas.girke at ucr.edu