Package: ChemmineR Version: 3.44.0 Command: C:\Users\biocbuild\bbs-3.13-bioc\R\bin\R.exe CMD check --force-multiarch --install=check:ChemmineR.install-out.txt --library=C:\Users\biocbuild\bbs-3.13-bioc\R\library --no-vignettes --timings ChemmineR_3.44.0.tar.gz StartedAt: 2021-10-14 20:56:48 -0400 (Thu, 14 Oct 2021) EndedAt: 2021-10-14 21:00:14 -0400 (Thu, 14 Oct 2021) EllapsedTime: 205.7 seconds RetCode: 0 Status: WARNINGS CheckDir: ChemmineR.Rcheck Warnings: 2