Package: Chicago Version: 1.20.0 Command: /home/biocbuild/bbs-3.13-bioc/R/bin/R CMD INSTALL Chicago StartedAt: 2021-10-14 06:10:32 -0400 (Thu, 14 Oct 2021) EndedAt: 2021-10-14 06:10:41 -0400 (Thu, 14 Oct 2021) EllapsedTime: 8.5 seconds RetCode: 0 Status: OK