Package: Chicago Version: 1.20.0 Command: C:\cygwin\bin\curl.exe -O http://155.52.207.165/BBS/3.13/bioc/src/contrib/Chicago_1.20.0.tar.gz && rm -rf Chicago.buildbin-libdir && mkdir Chicago.buildbin-libdir && C:\Users\biocbuild\bbs-3.13-bioc\R\bin\R.exe CMD INSTALL --merge-multiarch --build --library=Chicago.buildbin-libdir Chicago_1.20.0.tar.gz && C:\Users\biocbuild\bbs-3.13-bioc\R\bin\R.exe CMD INSTALL Chicago_1.20.0.zip && rm Chicago_1.20.0.tar.gz Chicago_1.20.0.zip StartedAt: 2021-10-14 08:37:44 -0400 (Thu, 14 Oct 2021) EndedAt: 2021-10-14 08:38:57 -0400 (Thu, 14 Oct 2021) EllapsedTime: 73.2 seconds RetCode: 0 Status: OK