Package: ChromHeatMap Version: 1.46.0 Command: /home/biocbuild/bbs-3.13-bioc/R/bin/R CMD build --keep-empty-dirs --no-resave-data ChromHeatMap StartedAt: 2021-10-14 06:56:31 -0400 (Thu, 14 Oct 2021) EndedAt: 2021-10-14 06:57:16 -0400 (Thu, 14 Oct 2021) EllapsedTime: 44.7 seconds RetCode: 0 Status: OK PackageFile: ChromHeatMap_1.46.0.tar.gz PackageFileSize: 261.7 KiB