Package: Clomial Version: 1.28.0 Command: rm -rf Clomial.buildbin-libdir && mkdir Clomial.buildbin-libdir && /Users/biocbuild/BBS/utils/build-universal.sh Clomial_1.28.0.tar.gz /Library/Frameworks/R.framework/Versions/Current/Resources/bin/R Clomial.buildbin-libdir StartedAt: 2021-10-15 01:57:19 -0400 (Fri, 15 Oct 2021) EndedAt: 2021-10-15 01:58:23 -0400 (Fri, 15 Oct 2021) EllapsedTime: 64.1 seconds RetCode: 0 Status: OK PackageFile: Clomial_1.28.0.tgz PackageFileSize: 1.427 MiB