Package: Clomial Version: 1.28.0 Command: /Library/Frameworks/R.framework/Versions/Current/Resources/bin/R CMD check --install=check:Clomial.install-out.txt --library=/Library/Frameworks/R.framework/Versions/Current/Resources/library --no-vignettes --timings Clomial_1.28.0.tar.gz StartedAt: 2021-10-14 17:28:27 -0400 (Thu, 14 Oct 2021) EndedAt: 2021-10-14 17:32:40 -0400 (Thu, 14 Oct 2021) EllapsedTime: 253.4 seconds RetCode: 0 Status: OK CheckDir: Clomial.Rcheck Warnings: 0