git_url: https://git.bioconductor.org/packages/CompGO git_branch: RELEASE_3_13 git_last_commit: e8e77da git_last_commit_date: 2021-05-19 12:04:07 -0400 (Wed, 19 May 2021) Package: CompGO Version: 1.28.0 Maintainer: Ashley J. Waardenberg MaintainerEmail: A.Waardenberg at victorchang.edu.au