Package: CompGO Version: 1.28.0 Command: /Library/Frameworks/R.framework/Versions/Current/Resources/bin/R CMD build --keep-empty-dirs --no-resave-data CompGO StartedAt: 2021-10-14 11:23:54 -0400 (Thu, 14 Oct 2021) EndedAt: 2021-10-14 11:24:53 -0400 (Thu, 14 Oct 2021) EllapsedTime: 59.0 seconds RetCode: 0 Status: OK PackageFile: CompGO_1.28.0.tar.gz PackageFileSize: 208.4 KiB