Package: CompGO Version: 1.28.0 Command: C:\Users\biocbuild\bbs-3.13-bioc\R\bin\R.exe --arch x64 CMD INSTALL --no-multiarch CompGO StartedAt: 2021-10-14 10:19:46 -0400 (Thu, 14 Oct 2021) EndedAt: 2021-10-14 10:21:06 -0400 (Thu, 14 Oct 2021) EllapsedTime: 80.0 seconds RetCode: 0 Status: OK