git_url: https://git.bioconductor.org/packages/ComplexHeatmap git_branch: RELEASE_3_13 git_last_commit: 1bd0c3b git_last_commit_date: 2021-05-19 12:12:28 -0400 (Wed, 19 May 2021) Package: ComplexHeatmap Version: 2.8.0 Maintainer: Zuguang Gu MaintainerEmail: z.gu at dkfz.de