Package: ComplexHeatmap Version: 2.8.0 Command: rm -rf ComplexHeatmap.buildbin-libdir && mkdir ComplexHeatmap.buildbin-libdir && /Users/biocbuild/BBS/utils/build-universal.sh ComplexHeatmap_2.8.0.tar.gz /Library/Frameworks/R.framework/Versions/Current/Resources/bin/R ComplexHeatmap.buildbin-libdir StartedAt: 2021-10-15 02:01:36 -0400 (Fri, 15 Oct 2021) EndedAt: 2021-10-15 02:02:41 -0400 (Fri, 15 Oct 2021) EllapsedTime: 65.1 seconds RetCode: 0 Status: OK PackageFile: ComplexHeatmap_2.8.0.tgz PackageFileSize: 2.791 MiB