Package: ComplexHeatmap Version: 2.8.0 Command: /home/biocbuild/bbs-3.13-bioc/R/bin/R CMD build --keep-empty-dirs --no-resave-data ComplexHeatmap StartedAt: 2021-10-14 07:00:30 -0400 (Thu, 14 Oct 2021) EndedAt: 2021-10-14 07:00:57 -0400 (Thu, 14 Oct 2021) EllapsedTime: 26.6 seconds RetCode: 0 Status: OK PackageFile: ComplexHeatmap_2.8.0.tar.gz PackageFileSize: 1.374 MiB