Package: ComplexHeatmap Version: 2.8.0 Command: chmod a+r ComplexHeatmap -R && C:\Users\biocbuild\bbs-3.13-bioc\R\bin\R.exe CMD build --keep-empty-dirs --no-resave-data ComplexHeatmap StartedAt: 2021-10-14 13:00:19 -0400 (Thu, 14 Oct 2021) EndedAt: 2021-10-14 13:01:42 -0400 (Thu, 14 Oct 2021) EllapsedTime: 82.9 seconds RetCode: 0 Status: OK PackageFile: ComplexHeatmap_2.8.0.tar.gz PackageFileSize: 1.36 MiB