Package: ComplexHeatmap Version: 2.8.0 Command: C:\cygwin\bin\curl.exe -O http://155.52.207.165/BBS/3.13/bioc/src/contrib/ComplexHeatmap_2.8.0.tar.gz && rm -rf ComplexHeatmap.buildbin-libdir && mkdir ComplexHeatmap.buildbin-libdir && C:\Users\biocbuild\bbs-3.13-bioc\R\bin\R.exe CMD INSTALL --merge-multiarch --build --library=ComplexHeatmap.buildbin-libdir ComplexHeatmap_2.8.0.tar.gz && C:\Users\biocbuild\bbs-3.13-bioc\R\bin\R.exe CMD INSTALL ComplexHeatmap_2.8.0.zip && rm ComplexHeatmap_2.8.0.tar.gz ComplexHeatmap_2.8.0.zip StartedAt: 2021-10-14 08:31:07 -0400 (Thu, 14 Oct 2021) EndedAt: 2021-10-14 08:34:12 -0400 (Thu, 14 Oct 2021) EllapsedTime: 184.7 seconds RetCode: 0 Status: OK