Package: CoreGx Version: 1.4.2 Command: rm -rf CoreGx.buildbin-libdir && mkdir CoreGx.buildbin-libdir && /Users/biocbuild/BBS/utils/build-universal.sh CoreGx_1.4.2.tar.gz /Library/Frameworks/R.framework/Versions/Current/Resources/bin/R CoreGx.buildbin-libdir StartedAt: 2021-10-15 02:03:24 -0400 (Fri, 15 Oct 2021) EndedAt: 2021-10-15 02:04:22 -0400 (Fri, 15 Oct 2021) EllapsedTime: 58.9 seconds RetCode: 0 Status: OK PackageFile: CoreGx_1.4.2.tgz PackageFileSize: 1.924 MiB