Package: Cormotif Version: 1.38.0 Command: rm -rf Cormotif.buildbin-libdir && mkdir Cormotif.buildbin-libdir && /Users/biocbuild/BBS/utils/build-universal.sh Cormotif_1.38.0.tar.gz /Library/Frameworks/R.framework/Versions/Current/Resources/bin/R Cormotif.buildbin-libdir StartedAt: 2021-10-15 02:03:29 -0400 (Fri, 15 Oct 2021) EndedAt: 2021-10-15 02:04:28 -0400 (Fri, 15 Oct 2021) EllapsedTime: 58.9 seconds RetCode: 0 Status: OK PackageFile: Cormotif_1.38.0.tgz PackageFileSize: 360.3 KiB