git_url: https://git.bioconductor.org/packages/CytoGLMM git_branch: RELEASE_3_13 git_last_commit: 6da96d2 git_last_commit_date: 2021-05-19 13:01:29 -0400 (Wed, 19 May 2021) Package: CytoGLMM Version: 1.0.0 Maintainer: Christof Seiler MaintainerEmail: christof.seiler at maastrichtuniversity.nl