git_url: https://git.bioconductor.org/packages/CytoML git_branch: RELEASE_3_13 git_last_commit: 6e64d69 git_last_commit_date: 2021-05-19 12:21:29 -0400 (Wed, 19 May 2021) Package: CytoML Version: 2.4.0 Maintainer: Mike Jiang MaintainerEmail: wjiang2 at fhcrc.org