Package: CytoML Version: 2.4.0 Command: /Library/Frameworks/R.framework/Versions/Current/Resources/bin/R CMD check --install=check:CytoML.install-out.txt --library=/Library/Frameworks/R.framework/Versions/Current/Resources/library --no-vignettes --timings CytoML_2.4.0.tar.gz StartedAt: 2021-10-14 18:01:54 -0400 (Thu, 14 Oct 2021) EndedAt: 2021-10-14 18:05:17 -0400 (Thu, 14 Oct 2021) EllapsedTime: 203.9 seconds RetCode: 0 Status: WARNINGS CheckDir: CytoML.Rcheck Warnings: 2