Package: CytoML Version: 2.4.0 Command: chmod a+r CytoML -R && C:\Users\biocbuild\bbs-3.13-bioc\R\bin\R.exe CMD build --keep-empty-dirs --no-resave-data CytoML StartedAt: 2021-10-14 13:12:04 -0400 (Thu, 14 Oct 2021) EndedAt: 2021-10-14 13:15:27 -0400 (Thu, 14 Oct 2021) EllapsedTime: 203.1 seconds RetCode: 0 Status: OK PackageFile: CytoML_2.4.0.tar.gz PackageFileSize: 9.585 MiB