Package: DAMEfinder Version: 1.4.0 Command: /Library/Frameworks/R.framework/Versions/Current/Resources/bin/R CMD check --install=check:DAMEfinder.install-out.txt --library=/Library/Frameworks/R.framework/Versions/Current/Resources/library --no-vignettes --timings DAMEfinder_1.4.0.tar.gz StartedAt: 2021-10-14 18:03:35 -0400 (Thu, 14 Oct 2021) EndedAt: 2021-10-14 18:10:28 -0400 (Thu, 14 Oct 2021) EllapsedTime: 412.2 seconds RetCode: 0 Status: OK CheckDir: DAMEfinder.Rcheck Warnings: 0