Package: DAMEfinder Version: 1.4.0 Command: /home/biocbuild/bbs-3.13-bioc/R/bin/R CMD INSTALL DAMEfinder StartedAt: 2021-10-14 06:27:12 -0400 (Thu, 14 Oct 2021) EndedAt: 2021-10-14 06:27:37 -0400 (Thu, 14 Oct 2021) EllapsedTime: 24.9 seconds RetCode: 0 Status: OK