Package: DAPAR Version: 1.24.8 Command: /home/biocbuild/bbs-3.13-bioc/R/bin/R CMD INSTALL DAPAR StartedAt: 2021-10-14 06:35:33 -0400 (Thu, 14 Oct 2021) EndedAt: 2021-10-14 06:35:59 -0400 (Thu, 14 Oct 2021) EllapsedTime: 26.6 seconds RetCode: 0 Status: OK