Package: DBChIP Version: 1.36.0 Command: chmod a+r DBChIP -R && C:\Users\biocbuild\bbs-3.13-bioc\R\bin\R.exe CMD build --keep-empty-dirs --no-resave-data DBChIP StartedAt: 2021-10-14 13:15:02 -0400 (Thu, 14 Oct 2021) EndedAt: 2021-10-14 13:15:37 -0400 (Thu, 14 Oct 2021) EllapsedTime: 35.0 seconds RetCode: 1 Status: ERROR PackageFile: DBChIP_1.36.0.tar.gz PackageFileSize: 1.707 MiB