Package: DECIPHER Version: 2.20.0 Command: rm -rf DECIPHER.buildbin-libdir && mkdir DECIPHER.buildbin-libdir && /Users/biocbuild/BBS/utils/build-universal.sh DECIPHER_2.20.0.tar.gz /Library/Frameworks/R.framework/Versions/Current/Resources/bin/R DECIPHER.buildbin-libdir StartedAt: 2021-10-15 02:08:33 -0400 (Fri, 15 Oct 2021) EndedAt: 2021-10-15 02:09:33 -0400 (Fri, 15 Oct 2021) EllapsedTime: 60.5 seconds RetCode: 0 Status: OK PackageFile: DECIPHER_2.20.0.tgz PackageFileSize: 14.84 MiB