Package: DEComplexDisease Version: 1.12.0 Command: /Library/Frameworks/R.framework/Versions/Current/Resources/bin/R CMD build --keep-empty-dirs --no-resave-data DEComplexDisease StartedAt: 2021-10-14 11:36:08 -0400 (Thu, 14 Oct 2021) EndedAt: 2021-10-14 11:37:49 -0400 (Thu, 14 Oct 2021) EllapsedTime: 101.8 seconds RetCode: 0 Status: OK PackageFile: DEComplexDisease_1.12.0.tar.gz PackageFileSize: 1.34 MiB