Package: DEComplexDisease Version: 1.12.0 Command: /Library/Frameworks/R.framework/Versions/Current/Resources/bin/R CMD INSTALL DEComplexDisease StartedAt: 2021-10-14 09:28:18 -0400 (Thu, 14 Oct 2021) EndedAt: 2021-10-14 09:29:09 -0400 (Thu, 14 Oct 2021) EllapsedTime: 50.1 seconds RetCode: 0 Status: OK