Package: DEComplexDisease Version: 1.12.0 Command: rm -rf DEComplexDisease.buildbin-libdir && mkdir DEComplexDisease.buildbin-libdir && C:\Users\biocbuild\bbs-3.13-bioc\R\bin\R.exe CMD INSTALL --merge-multiarch --build --library=DEComplexDisease.buildbin-libdir DEComplexDisease_1.12.0.tar.gz StartedAt: 2021-10-15 08:53:12 -0400 (Fri, 15 Oct 2021) EndedAt: 2021-10-15 08:54:16 -0400 (Fri, 15 Oct 2021) EllapsedTime: 64.6 seconds RetCode: 0 Status: OK PackageFile: DEComplexDisease_1.12.0.zip PackageFileSize: 2.29 MiB