Package: DFP Version: 1.50.0 Command: chmod a+r DFP -R && C:\Users\biocbuild\bbs-3.13-bioc\R\bin\R.exe CMD build --keep-empty-dirs --no-resave-data DFP StartedAt: 2021-10-14 13:27:05 -0400 (Thu, 14 Oct 2021) EndedAt: 2021-10-14 13:27:31 -0400 (Thu, 14 Oct 2021) EllapsedTime: 25.9 seconds RetCode: 0 Status: OK PackageFile: DFP_1.50.0.tar.gz PackageFileSize: 420.6 KiB