Package: DFP Version: 1.50.0 Command: C:\Users\biocbuild\bbs-3.13-bioc\R\bin\R.exe CMD check --force-multiarch --install=check:DFP.install-out.txt --library=C:\Users\biocbuild\bbs-3.13-bioc\R\library --no-vignettes --timings DFP_1.50.0.tar.gz StartedAt: 2021-10-14 22:15:00 -0400 (Thu, 14 Oct 2021) EndedAt: 2021-10-14 22:15:51 -0400 (Thu, 14 Oct 2021) EllapsedTime: 51.6 seconds RetCode: 0 Status: OK CheckDir: DFP.Rcheck Warnings: 0