Package: DFP Version: 1.50.0 Command: C:\cygwin\bin\curl.exe -O http://155.52.207.165/BBS/3.13/bioc/src/contrib/DFP_1.50.0.tar.gz && rm -rf DFP.buildbin-libdir && mkdir DFP.buildbin-libdir && C:\Users\biocbuild\bbs-3.13-bioc\R\bin\R.exe CMD INSTALL --merge-multiarch --build --library=DFP.buildbin-libdir DFP_1.50.0.tar.gz && C:\Users\biocbuild\bbs-3.13-bioc\R\bin\R.exe CMD INSTALL DFP_1.50.0.zip && rm DFP_1.50.0.tar.gz DFP_1.50.0.zip StartedAt: 2021-10-14 07:28:40 -0400 (Thu, 14 Oct 2021) EndedAt: 2021-10-14 07:29:29 -0400 (Thu, 14 Oct 2021) EllapsedTime: 48.8 seconds RetCode: 0 Status: OK