Package: DMCFB Version: 1.6.0 Command: /Library/Frameworks/R.framework/Versions/Current/Resources/bin/R CMD build --keep-empty-dirs --no-resave-data DMCFB StartedAt: 2021-10-14 11:45:49 -0400 (Thu, 14 Oct 2021) EndedAt: 2021-10-14 11:47:45 -0400 (Thu, 14 Oct 2021) EllapsedTime: 116.0 seconds RetCode: 0 Status: OK PackageFile: DMCFB_1.6.0.tar.gz PackageFileSize: 1.038 MiB