Package: DMCFB Version: 1.6.0 Command: /Library/Frameworks/R.framework/Versions/Current/Resources/bin/R CMD check --install=check:DMCFB.install-out.txt --library=/Library/Frameworks/R.framework/Versions/Current/Resources/library --no-vignettes --timings DMCFB_1.6.0.tar.gz StartedAt: 2021-10-14 18:28:35 -0400 (Thu, 14 Oct 2021) EndedAt: 2021-10-14 18:36:02 -0400 (Thu, 14 Oct 2021) EllapsedTime: 447.4 seconds RetCode: 0 Status: OK CheckDir: DMCFB.Rcheck Warnings: 0