Package: DMCFB Version: 1.6.0 Command: C:\cygwin\bin\curl.exe -O http://155.52.207.165/BBS/3.13/bioc/src/contrib/DMCFB_1.6.0.tar.gz && rm -rf DMCFB.buildbin-libdir && mkdir DMCFB.buildbin-libdir && C:\Users\biocbuild\bbs-3.13-bioc\R\bin\R.exe CMD INSTALL --merge-multiarch --build --library=DMCFB.buildbin-libdir DMCFB_1.6.0.tar.gz && C:\Users\biocbuild\bbs-3.13-bioc\R\bin\R.exe CMD INSTALL DMCFB_1.6.0.zip && rm DMCFB_1.6.0.tar.gz DMCFB_1.6.0.zip StartedAt: 2021-10-14 10:39:59 -0400 (Thu, 14 Oct 2021) EndedAt: 2021-10-14 10:41:26 -0400 (Thu, 14 Oct 2021) EllapsedTime: 87.8 seconds RetCode: 0 Status: OK