Package: DMCHMM Version: 1.14.0 Command: /home/biocbuild/bbs-3.13-bioc/R/bin/R CMD build --keep-empty-dirs --no-resave-data DMCHMM StartedAt: 2021-10-14 07:09:03 -0400 (Thu, 14 Oct 2021) EndedAt: 2021-10-14 07:10:08 -0400 (Thu, 14 Oct 2021) EllapsedTime: 65.0 seconds RetCode: 0 Status: OK PackageFile: DMCHMM_1.14.0.tar.gz PackageFileSize: 742.2 KiB