Package: DMCHMM Version: 1.14.0 Command: /home/biocbuild/bbs-3.13-bioc/R/bin/R CMD INSTALL DMCHMM StartedAt: 2021-10-14 06:23:01 -0400 (Thu, 14 Oct 2021) EndedAt: 2021-10-14 06:23:28 -0400 (Thu, 14 Oct 2021) EllapsedTime: 26.3 seconds RetCode: 0 Status: OK