Package: DMRcaller Version: 1.24.0 Command: rm -rf DMRcaller.buildbin-libdir && mkdir DMRcaller.buildbin-libdir && C:\Users\biocbuild\bbs-3.13-bioc\R\bin\R.exe CMD INSTALL --merge-multiarch --build --library=DMRcaller.buildbin-libdir DMRcaller_1.24.0.tar.gz StartedAt: 2021-10-15 09:01:23 -0400 (Fri, 15 Oct 2021) EndedAt: 2021-10-15 09:02:30 -0400 (Fri, 15 Oct 2021) EllapsedTime: 66.5 seconds RetCode: 0 Status: OK PackageFile: DMRcaller_1.24.0.zip PackageFileSize: 1.893 MiB