Package: DMRcaller Version: 1.24.0 Command: chmod a+r DMRcaller -R && C:\Users\biocbuild\bbs-3.13-bioc\R\bin\R.exe CMD build --keep-empty-dirs --no-resave-data DMRcaller StartedAt: 2021-10-14 13:30:40 -0400 (Thu, 14 Oct 2021) EndedAt: 2021-10-14 13:32:41 -0400 (Thu, 14 Oct 2021) EllapsedTime: 120.6 seconds RetCode: 0 Status: OK PackageFile: DMRcaller_1.24.0.tar.gz PackageFileSize: 1.627 MiB