Package: DMRcaller Version: 1.24.0 Command: C:\Users\biocbuild\bbs-3.13-bioc\R\bin\R.exe CMD check --force-multiarch --install=check:DMRcaller.install-out.txt --library=C:\Users\biocbuild\bbs-3.13-bioc\R\library --no-vignettes --timings DMRcaller_1.24.0.tar.gz StartedAt: 2021-10-14 22:23:57 -0400 (Thu, 14 Oct 2021) EndedAt: 2021-10-14 22:32:05 -0400 (Thu, 14 Oct 2021) EllapsedTime: 488.2 seconds RetCode: 0 Status: OK CheckDir: DMRcaller.Rcheck Warnings: 0