Package: DMRcate Version: 2.6.0 Command: /home/biocbuild/bbs-3.13-bioc/R/bin/R CMD build --keep-empty-dirs --no-resave-data DMRcate StartedAt: 2021-10-14 07:09:09 -0400 (Thu, 14 Oct 2021) EndedAt: 2021-10-14 07:23:43 -0400 (Thu, 14 Oct 2021) EllapsedTime: 874.6 seconds RetCode: 0 Status: OK PackageFile: DMRcate_2.6.0.tar.gz PackageFileSize: 336.1 KiB