Package: DMRcate Version: 2.6.0 Command: C:\Users\biocbuild\bbs-3.13-bioc\R\bin\R.exe CMD check --force-multiarch --install=check:DMRcate.install-out.txt --library=C:\Users\biocbuild\bbs-3.13-bioc\R\library --no-vignettes --timings DMRcate_2.6.0.tar.gz StartedAt: 2021-10-14 22:24:12 -0400 (Thu, 14 Oct 2021) EndedAt: 2021-10-14 22:32:46 -0400 (Thu, 14 Oct 2021) EllapsedTime: 513.6 seconds RetCode: 1 Status: ERROR CheckDir: DMRcate.Rcheck Warnings: NA