Package: DTA Version: 2.38.0 Command: C:\cygwin\bin\curl.exe -O http://155.52.207.165/BBS/3.13/bioc/src/contrib/DTA_2.38.0.tar.gz && rm -rf DTA.buildbin-libdir && mkdir DTA.buildbin-libdir && C:\Users\biocbuild\bbs-3.13-bioc\R\bin\R.exe CMD INSTALL --merge-multiarch --build --library=DTA.buildbin-libdir DTA_2.38.0.tar.gz && C:\Users\biocbuild\bbs-3.13-bioc\R\bin\R.exe CMD INSTALL DTA_2.38.0.zip && rm DTA_2.38.0.tar.gz DTA_2.38.0.zip StartedAt: 2021-10-14 07:05:23 -0400 (Thu, 14 Oct 2021) EndedAt: 2021-10-14 07:06:15 -0400 (Thu, 14 Oct 2021) EllapsedTime: 51.9 seconds RetCode: 0 Status: OK