Package: DaMiRseq Version: 2.4.3 Command: /Library/Frameworks/R.framework/Versions/Current/Resources/bin/R CMD build --keep-empty-dirs --no-resave-data DaMiRseq StartedAt: 2021-10-14 11:34:07 -0400 (Thu, 14 Oct 2021) EndedAt: 2021-10-14 11:47:26 -0400 (Thu, 14 Oct 2021) EllapsedTime: 798.9 seconds RetCode: 0 Status: OK PackageFile: DaMiRseq_2.4.3.tar.gz PackageFileSize: 4.723 MiB