Package: DaMiRseq Version: 2.4.3 Command: /home/biocbuild/bbs-3.13-bioc/R/bin/R CMD build --keep-empty-dirs --no-resave-data DaMiRseq StartedAt: 2021-10-14 07:04:43 -0400 (Thu, 14 Oct 2021) EndedAt: 2021-10-14 07:13:24 -0400 (Thu, 14 Oct 2021) EllapsedTime: 520.5 seconds RetCode: 0 Status: OK PackageFile: DaMiRseq_2.4.3.tar.gz PackageFileSize: 4.723 MiB